BEGIN:VCALENDAR
VERSION:2.0
PRODID:-//Nashville Dental Inc. - ECPv6.15.20//NONSGML v1.0//EN
CALSCALE:GREGORIAN
METHOD:PUBLISH
X-ORIGINAL-URL:https://nashvilledental.com
X-WR-CALDESC:Events for Nashville Dental Inc.
REFRESH-INTERVAL;VALUE=DURATION:PT1H
X-Robots-Tag:noindex
X-PUBLISHED-TTL:PT1H
BEGIN:VTIMEZONE
TZID:America/New_York
BEGIN:DAYLIGHT
TZOFFSETFROM:-0500
TZOFFSETTO:-0400
TZNAME:EDT
DTSTART:20240310T070000
END:DAYLIGHT
BEGIN:STANDARD
TZOFFSETFROM:-0400
TZOFFSETTO:-0500
TZNAME:EST
DTSTART:20241103T060000
END:STANDARD
BEGIN:DAYLIGHT
TZOFFSETFROM:-0500
TZOFFSETTO:-0400
TZNAME:EDT
DTSTART:20250309T070000
END:DAYLIGHT
BEGIN:STANDARD
TZOFFSETFROM:-0400
TZOFFSETTO:-0500
TZNAME:EST
DTSTART:20251102T060000
END:STANDARD
BEGIN:DAYLIGHT
TZOFFSETFROM:-0500
TZOFFSETTO:-0400
TZNAME:EDT
DTSTART:20260308T070000
END:DAYLIGHT
BEGIN:STANDARD
TZOFFSETFROM:-0400
TZOFFSETTO:-0500
TZNAME:EST
DTSTART:20261101T060000
END:STANDARD
END:VTIMEZONE
BEGIN:VEVENT
DTSTART;TZID=America/New_York:20251021T180000
DTEND;TZID=America/New_York:20251021T200000
DTSTAMP:20260422T230916
CREATED:20250521T143821Z
LAST-MODIFIED:20250521T144407Z
UID:3055-1761069600-1761076800@nashvilledental.com
SUMMARY:Wish They Had Taught This in Dental School: A 3-Part Blueprint for Practice Success Part 2 of 3
DESCRIPTION:Tuition Cost: AIDA members: $19.99 per person per session\nGeneral Admission: $29.99 per person per session\nAudience: Doctors and Office Managers \nCE: 2.0 Lecture CE Credits per session\nCE Code: 550 \nCourse Description 3-Part Series: Wish They Had Taught This in Dental School: A 3-Part Blueprint for Practice Success\nThis comprehensive 3-part series equips dental professionals with the knowledge and tools needed to optimize their practice operations\, secure financial success\, and plan for a successful future. From understanding key performance indicators (KPIs) to navigating financial success and preparing for retirement\, participants will gain essential insights and strategies to improve practice efficiency\, increase profitability\, and ensure long-term sustainability. Whether you are a dental practice owner or a manager\, this series will help you position your practice for lasting success. \n  \nCourse Title Part 2: Navigating Financial Success in Today’s Dental Practice Landscape \nCourse Description Part 2: In today’s competitive dental market\, understanding the financial dynamics of a dental practice is critical to its success. This course explores the financial strategies that dental professionals need to navigate complex economic challenges and ensure long-term profitability. Participants will learn about budgeting\, revenue cycle management\, cost control\, pricing strategies\, and effective financial decision-making. With practical tools and financial frameworks\, this course will empower dental practice owners and managers to make informed choices that enhance their financial health while maintaining high-quality care and patient satisfaction. \nCourse Objectives Part 2: \n\nUnderstand the key financial elements that contribute to the success of a dental practice.\nImplement effective budgeting and cost-control strategies to maximize profitability.\nAnalyze revenue cycle management to reduce inefficiencies and boost cash flow.\nDevelop pricing strategies that reflect the value of services while remaining competitive.\nMake informed financial decisions based on data-driven insights to improve financial performance.\n\nAudience: Doctors and Office Managers \nMeet the Instructors: Dr Jennifer Bell\, D.D.S.\, FAGD\, FICD\, FPFA \nDr. Jennifer Bell is a native of Lexington\, North Carolina.  She earned her undergraduate and dental graduate degrees from the University of North Carolina at Chapel Hill.  Upon graduation\, she completed advanced education in general dentistry program at the Veterans Administration Medical Center in Fayetteville\, NC. \nIn 2010\, Dr. Bell along with her business partner started a general dentistry practice in Holly Springs\, NC.  They opened their second practice in Angier\, NC in 2017.  Their practices treat all ages and complexity of cases.   Her main interests include rehabilitation cases\, complex prosthodontic cases\, laser dentistry\, and sleep disorders. \nDr. Bell has earned fellowship from the Academy of General Dentistry (AGD) where she has served the North Carolina state chapter as president most recently as executive director.  In 2013\, Dr. Bell served as the first chair of the New Dentist committee for the AGD where she served for three years.  Currently\, Dr. Bell is serving as an AGD National Spokesperson\, member of the Dental Practice Council and member of Governance Evaluation and Review Committee.  In addition to her work with the AGD\, Dr. Bell is an active member in the American Dental Association\, the North Carolina Dental Society\, American Academy of Dental Sleep Medicine and a fellow in the International College of Dentists.  In March 2018\, she graduated from the Dr. John Kois continuum in Seattle\, Washington.  Dr. Bell also currently serves as a clinical reviewer with Catapult Education group.  Dr. Bell has recently been published in Compendium of Continuing Education in Dentistry and co-hosts a weekly Facebook live show called Dentists in the Know.   Outside of dentistry\, Dr. Bell is active with Kiwanis International and other local philanthropic organizations in her community. \nDr. Bell and her husband Brian reside in Holly Springs\, NC and have three children: Benjamin\, Lillian and Evelyn.
URL:https://nashvilledental.com/event/blueprint-for-success-p2/
LOCATION:Virtual
CATEGORIES:AIDA
END:VEVENT
BEGIN:VEVENT
DTSTART;TZID=America/New_York:20251021T180000
DTEND;TZID=America/New_York:20251021T200000
DTSTAMP:20260422T230916
CREATED:20250521T143924Z
LAST-MODIFIED:20250521T144558Z
UID:3057-1761069600-1761076800@nashvilledental.com
SUMMARY:Wish They Had Taught This in Dental School: A 3-Part Blueprint for Practice Success Part 3 of 3
DESCRIPTION:Tuition Cost: AIDA members: $19.99 per person per session\nGeneral Admission: $29.99 per person per session\nAudience: Doctors Only \nCE: 2.0 Lecture CE Credits per session\nCE Code: 550 \nCourse Description 3-Part Series: Wish They Had Taught This in Dental School: A 3-Part Blueprint for Practice Success\nThis comprehensive 3-part series equips dental professionals with the knowledge and tools needed to optimize their practice operations\, secure financial success\, and plan for a successful future. From understanding key performance indicators (KPIs) to navigating financial success and preparing for retirement\, participants will gain essential insights and strategies to improve practice efficiency\, increase profitability\, and ensure long-term sustainability. Whether you are a dental practice owner or a manager\, this series will help you position your practice for lasting success. \n  \nCourse Title Part 3: The End Game for Practice Ownership: How to Position Your Practice for Your Retirement Future  \nCourse Description Part 3:\nThis course focuses on the critical steps dental practice owners must take to successfully transition out of ownership and plan for a financially secure retirement. From succession planning and practice valuation to exit strategies and retirement savings options\, participants will learn how to position their practices for maximum value. This course covers the essentials of preparing for the end game\, whether through selling the practice\, merging with another\, or passing it on to the next generation. Key strategies for securing retirement income and ensuring the future health of the practice will be discussed in detail. \nCourse Objectives Part 3: \n\nUnderstand the key components of a successful retirement and succession plan for dental practice owners.\nAssess the value of their dental practice and identify strategies to enhance its worth.\nExplore various exit strategies and choose the best option based on personal and financial goals.\nImplement strategies for transitioning ownership smoothly\, ensuring minimal disruption to patients and staff.\nPlan for retirement by exploring financial tools such as retirement accounts\, investments\, and sale proceeds.\n\nAudience: Doctors Only \nMeet the Instructors: Dr Jennifer Bell\, D.D.S.\, FAGD\, FICD\, FPFA \nDr. Jennifer Bell is a native of Lexington\, North Carolina.  She earned her undergraduate and dental graduate degrees from the University of North Carolina at Chapel Hill.  Upon graduation\, she completed advanced education in general dentistry program at the Veterans Administration Medical Center in Fayetteville\, NC. \nIn 2010\, Dr. Bell along with her business partner started a general dentistry practice in Holly Springs\, NC.  They opened their second practice in Angier\, NC in 2017.  Their practices treat all ages and complexity of cases.   Her main interests include rehabilitation cases\, complex prosthodontic cases\, laser dentistry\, and sleep disorders. \nDr. Bell has earned fellowship from the Academy of General Dentistry (AGD) where she has served the North Carolina state chapter as president most recently as executive director.  In 2013\, Dr. Bell served as the first chair of the New Dentist committee for the AGD where she served for three years.  Currently\, Dr. Bell is serving as an AGD National Spokesperson\, member of the Dental Practice Council and member of Governance Evaluation and Review Committee.  In addition to her work with the AGD\, Dr. Bell is an active member in the American Dental Association\, the North Carolina Dental Society\, American Academy of Dental Sleep Medicine and a fellow in the International College of Dentists.  In March 2018\, she graduated from the Dr. John Kois continuum in Seattle\, Washington.  Dr. Bell also currently serves as a clinical reviewer with Catapult Education group.  Dr. Bell has recently been published in Compendium of Continuing Education in Dentistry and co-hosts a weekly Facebook live show called Dentists in the Know.   Outside of dentistry\, Dr. Bell is active with Kiwanis International and other local philanthropic organizations in her community. \nDr. Bell and her husband Brian reside in Holly Springs\, NC and have three children: Benjamin\, Lillian and Evelyn.
URL:https://nashvilledental.com/event/blueprint-for-success-p3/
LOCATION:Virtual
CATEGORIES:AIDA
END:VEVENT
END:VCALENDAR