BEGIN:VCALENDAR
VERSION:2.0
PRODID:-//Nashville Dental Inc. - ECPv6.15.20//NONSGML v1.0//EN
CALSCALE:GREGORIAN
METHOD:PUBLISH
X-WR-CALNAME:Nashville Dental Inc.
X-ORIGINAL-URL:https://nashvilledental.com
X-WR-CALDESC:Events for Nashville Dental Inc.
REFRESH-INTERVAL;VALUE=DURATION:PT1H
X-Robots-Tag:noindex
X-PUBLISHED-TTL:PT1H
BEGIN:VTIMEZONE
TZID:America/New_York
BEGIN:DAYLIGHT
TZOFFSETFROM:-0500
TZOFFSETTO:-0400
TZNAME:EDT
DTSTART:20240310T070000
END:DAYLIGHT
BEGIN:STANDARD
TZOFFSETFROM:-0400
TZOFFSETTO:-0500
TZNAME:EST
DTSTART:20241103T060000
END:STANDARD
BEGIN:DAYLIGHT
TZOFFSETFROM:-0500
TZOFFSETTO:-0400
TZNAME:EDT
DTSTART:20250309T070000
END:DAYLIGHT
BEGIN:STANDARD
TZOFFSETFROM:-0400
TZOFFSETTO:-0500
TZNAME:EST
DTSTART:20251102T060000
END:STANDARD
BEGIN:DAYLIGHT
TZOFFSETFROM:-0500
TZOFFSETTO:-0400
TZNAME:EDT
DTSTART:20260308T070000
END:DAYLIGHT
BEGIN:STANDARD
TZOFFSETFROM:-0400
TZOFFSETTO:-0500
TZNAME:EST
DTSTART:20261101T060000
END:STANDARD
BEGIN:DAYLIGHT
TZOFFSETFROM:-0500
TZOFFSETTO:-0400
TZNAME:EDT
DTSTART:20270314T070000
END:DAYLIGHT
BEGIN:STANDARD
TZOFFSETFROM:-0400
TZOFFSETTO:-0500
TZNAME:EST
DTSTART:20271107T060000
END:STANDARD
END:VTIMEZONE
BEGIN:VEVENT
DTSTART;TZID=America/New_York:20251014T180000
DTEND;TZID=America/New_York:20251014T200000
DTSTAMP:20260422T232112
CREATED:20250521T143706Z
LAST-MODIFIED:20250521T144154Z
UID:3053-1760464800-1760472000@nashvilledental.com
SUMMARY:Wish They Had Taught This in Dental School: A 3-Part Blueprint for Practice Success Part 1 of 3
DESCRIPTION:Tuition Cost: AIDA members: $19.99 per person per session\nGeneral Admission: $29.99 per person per session\nAudience: Doctors and Office Managers \nCE: 2.0 Lecture CE Credits per session\nCE Code: 550 \nCourse Description 3-Part Series: Wish They Had Taught This in Dental School: A 3-Part Blueprint for Practice Success\nThis comprehensive 3-part series equips dental professionals with the knowledge and tools needed to optimize their practice operations\, secure financial success\, and plan for a successful future. From understanding key performance indicators (KPIs) to navigating financial success and preparing for retirement\, participants will gain essential insights and strategies to improve practice efficiency\, increase profitability\, and ensure long-term sustainability. Whether you are a dental practice owner or a manager\, this series will help you position your practice for lasting success. \nCourse Description Part 1:  \nTitle: Optimizing Dental Practice Performance: Essential KPIs and Improvement Strategies\nThis course will provide practitioners with a comprehensive understanding of the key performance indicators (KPIs) essential for monitoring and improving the overall performance of their dental practice. By analyzing financial\, operational\, and patient satisfaction metrics\, participants will learn how to identify areas for improvement and implement strategic changes that drive efficiency\, profitability\, and patient care. Real-world case studies and best practices will be used to illustrate successful applications of KPIs and improvement strategies in dental practices of all sizes. \nCourse Objectives Part 1: \n\nUnderstand the importance of KPIs in monitoring dental practice performance.\nIdentify the most critical KPIs to track\, including financial\, operational\, and patient-centric metrics.\nEvaluate current performance against KPIs and identify key areas for improvement.\nImplement effective strategies for improving practice efficiency and profitability.\nApply best practices from case studies to optimize practice operations and patient satisfaction.\n\nAudience: Doctors and Office Managers \n  \nMeet the Instructors: Dr Jennifer Bell\, D.D.S.\, FAGD\, FICD\, FPFA \nDr. Jennifer Bell is a native of Lexington\, North Carolina.  She earned her undergraduate and dental graduate degrees from the University of North Carolina at Chapel Hill.  Upon graduation\, she completed advanced education in general dentistry program at the Veterans Administration Medical Center in Fayetteville\, NC. \nIn 2010\, Dr. Bell along with her business partner started a general dentistry practice in Holly Springs\, NC.  They opened their second practice in Angier\, NC in 2017.  Their practices treat all ages and complexity of cases.   Her main interests include rehabilitation cases\, complex prosthodontic cases\, laser dentistry\, and sleep disorders. \nDr. Bell has earned fellowship from the Academy of General Dentistry (AGD) where she has served the North Carolina state chapter as president most recently as executive director.  In 2013\, Dr. Bell served as the first chair of the New Dentist committee for the AGD where she served for three years.  Currently\, Dr. Bell is serving as an AGD National Spokesperson\, member of the Dental Practice Council and member of Governance Evaluation and Review Committee.  In addition to her work with the AGD\, Dr. Bell is an active member in the American Dental Association\, the North Carolina Dental Society\, American Academy of Dental Sleep Medicine and a fellow in the International College of Dentists.  In March 2018\, she graduated from the Dr. John Kois continuum in Seattle\, Washington.  Dr. Bell also currently serves as a clinical reviewer with Catapult Education group.  Dr. Bell has recently been published in Compendium of Continuing Education in Dentistry and co-hosts a weekly Facebook live show called Dentists in the Know.   Outside of dentistry\, Dr. Bell is active with Kiwanis International and other local philanthropic organizations in her community. \nDr. Bell and her husband Brian reside in Holly Springs\, NC and have three children: Benjamin\, Lillian and Evelyn.
URL:https://nashvilledental.com/event/blueprint-for-success-p1/
LOCATION:Virtual
CATEGORIES:AIDA
END:VEVENT
BEGIN:VEVENT
DTSTART;TZID=America/New_York:20251021T180000
DTEND;TZID=America/New_York:20251021T200000
DTSTAMP:20260422T232112
CREATED:20250521T143821Z
LAST-MODIFIED:20250521T144407Z
UID:3055-1761069600-1761076800@nashvilledental.com
SUMMARY:Wish They Had Taught This in Dental School: A 3-Part Blueprint for Practice Success Part 2 of 3
DESCRIPTION:Tuition Cost: AIDA members: $19.99 per person per session\nGeneral Admission: $29.99 per person per session\nAudience: Doctors and Office Managers \nCE: 2.0 Lecture CE Credits per session\nCE Code: 550 \nCourse Description 3-Part Series: Wish They Had Taught This in Dental School: A 3-Part Blueprint for Practice Success\nThis comprehensive 3-part series equips dental professionals with the knowledge and tools needed to optimize their practice operations\, secure financial success\, and plan for a successful future. From understanding key performance indicators (KPIs) to navigating financial success and preparing for retirement\, participants will gain essential insights and strategies to improve practice efficiency\, increase profitability\, and ensure long-term sustainability. Whether you are a dental practice owner or a manager\, this series will help you position your practice for lasting success. \n  \nCourse Title Part 2: Navigating Financial Success in Today’s Dental Practice Landscape \nCourse Description Part 2: In today’s competitive dental market\, understanding the financial dynamics of a dental practice is critical to its success. This course explores the financial strategies that dental professionals need to navigate complex economic challenges and ensure long-term profitability. Participants will learn about budgeting\, revenue cycle management\, cost control\, pricing strategies\, and effective financial decision-making. With practical tools and financial frameworks\, this course will empower dental practice owners and managers to make informed choices that enhance their financial health while maintaining high-quality care and patient satisfaction. \nCourse Objectives Part 2: \n\nUnderstand the key financial elements that contribute to the success of a dental practice.\nImplement effective budgeting and cost-control strategies to maximize profitability.\nAnalyze revenue cycle management to reduce inefficiencies and boost cash flow.\nDevelop pricing strategies that reflect the value of services while remaining competitive.\nMake informed financial decisions based on data-driven insights to improve financial performance.\n\nAudience: Doctors and Office Managers \nMeet the Instructors: Dr Jennifer Bell\, D.D.S.\, FAGD\, FICD\, FPFA \nDr. Jennifer Bell is a native of Lexington\, North Carolina.  She earned her undergraduate and dental graduate degrees from the University of North Carolina at Chapel Hill.  Upon graduation\, she completed advanced education in general dentistry program at the Veterans Administration Medical Center in Fayetteville\, NC. \nIn 2010\, Dr. Bell along with her business partner started a general dentistry practice in Holly Springs\, NC.  They opened their second practice in Angier\, NC in 2017.  Their practices treat all ages and complexity of cases.   Her main interests include rehabilitation cases\, complex prosthodontic cases\, laser dentistry\, and sleep disorders. \nDr. Bell has earned fellowship from the Academy of General Dentistry (AGD) where she has served the North Carolina state chapter as president most recently as executive director.  In 2013\, Dr. Bell served as the first chair of the New Dentist committee for the AGD where she served for three years.  Currently\, Dr. Bell is serving as an AGD National Spokesperson\, member of the Dental Practice Council and member of Governance Evaluation and Review Committee.  In addition to her work with the AGD\, Dr. Bell is an active member in the American Dental Association\, the North Carolina Dental Society\, American Academy of Dental Sleep Medicine and a fellow in the International College of Dentists.  In March 2018\, she graduated from the Dr. John Kois continuum in Seattle\, Washington.  Dr. Bell also currently serves as a clinical reviewer with Catapult Education group.  Dr. Bell has recently been published in Compendium of Continuing Education in Dentistry and co-hosts a weekly Facebook live show called Dentists in the Know.   Outside of dentistry\, Dr. Bell is active with Kiwanis International and other local philanthropic organizations in her community. \nDr. Bell and her husband Brian reside in Holly Springs\, NC and have three children: Benjamin\, Lillian and Evelyn.
URL:https://nashvilledental.com/event/blueprint-for-success-p2/
LOCATION:Virtual
CATEGORIES:AIDA
END:VEVENT
BEGIN:VEVENT
DTSTART;TZID=America/New_York:20251021T180000
DTEND;TZID=America/New_York:20251021T200000
DTSTAMP:20260422T232112
CREATED:20250521T143924Z
LAST-MODIFIED:20250521T144558Z
UID:3057-1761069600-1761076800@nashvilledental.com
SUMMARY:Wish They Had Taught This in Dental School: A 3-Part Blueprint for Practice Success Part 3 of 3
DESCRIPTION:Tuition Cost: AIDA members: $19.99 per person per session\nGeneral Admission: $29.99 per person per session\nAudience: Doctors Only \nCE: 2.0 Lecture CE Credits per session\nCE Code: 550 \nCourse Description 3-Part Series: Wish They Had Taught This in Dental School: A 3-Part Blueprint for Practice Success\nThis comprehensive 3-part series equips dental professionals with the knowledge and tools needed to optimize their practice operations\, secure financial success\, and plan for a successful future. From understanding key performance indicators (KPIs) to navigating financial success and preparing for retirement\, participants will gain essential insights and strategies to improve practice efficiency\, increase profitability\, and ensure long-term sustainability. Whether you are a dental practice owner or a manager\, this series will help you position your practice for lasting success. \n  \nCourse Title Part 3: The End Game for Practice Ownership: How to Position Your Practice for Your Retirement Future  \nCourse Description Part 3:\nThis course focuses on the critical steps dental practice owners must take to successfully transition out of ownership and plan for a financially secure retirement. From succession planning and practice valuation to exit strategies and retirement savings options\, participants will learn how to position their practices for maximum value. This course covers the essentials of preparing for the end game\, whether through selling the practice\, merging with another\, or passing it on to the next generation. Key strategies for securing retirement income and ensuring the future health of the practice will be discussed in detail. \nCourse Objectives Part 3: \n\nUnderstand the key components of a successful retirement and succession plan for dental practice owners.\nAssess the value of their dental practice and identify strategies to enhance its worth.\nExplore various exit strategies and choose the best option based on personal and financial goals.\nImplement strategies for transitioning ownership smoothly\, ensuring minimal disruption to patients and staff.\nPlan for retirement by exploring financial tools such as retirement accounts\, investments\, and sale proceeds.\n\nAudience: Doctors Only \nMeet the Instructors: Dr Jennifer Bell\, D.D.S.\, FAGD\, FICD\, FPFA \nDr. Jennifer Bell is a native of Lexington\, North Carolina.  She earned her undergraduate and dental graduate degrees from the University of North Carolina at Chapel Hill.  Upon graduation\, she completed advanced education in general dentistry program at the Veterans Administration Medical Center in Fayetteville\, NC. \nIn 2010\, Dr. Bell along with her business partner started a general dentistry practice in Holly Springs\, NC.  They opened their second practice in Angier\, NC in 2017.  Their practices treat all ages and complexity of cases.   Her main interests include rehabilitation cases\, complex prosthodontic cases\, laser dentistry\, and sleep disorders. \nDr. Bell has earned fellowship from the Academy of General Dentistry (AGD) where she has served the North Carolina state chapter as president most recently as executive director.  In 2013\, Dr. Bell served as the first chair of the New Dentist committee for the AGD where she served for three years.  Currently\, Dr. Bell is serving as an AGD National Spokesperson\, member of the Dental Practice Council and member of Governance Evaluation and Review Committee.  In addition to her work with the AGD\, Dr. Bell is an active member in the American Dental Association\, the North Carolina Dental Society\, American Academy of Dental Sleep Medicine and a fellow in the International College of Dentists.  In March 2018\, she graduated from the Dr. John Kois continuum in Seattle\, Washington.  Dr. Bell also currently serves as a clinical reviewer with Catapult Education group.  Dr. Bell has recently been published in Compendium of Continuing Education in Dentistry and co-hosts a weekly Facebook live show called Dentists in the Know.   Outside of dentistry\, Dr. Bell is active with Kiwanis International and other local philanthropic organizations in her community. \nDr. Bell and her husband Brian reside in Holly Springs\, NC and have three children: Benjamin\, Lillian and Evelyn.
URL:https://nashvilledental.com/event/blueprint-for-success-p3/
LOCATION:Virtual
CATEGORIES:AIDA
END:VEVENT
BEGIN:VEVENT
DTSTART;TZID=America/New_York:20251209T180000
DTEND;TZID=America/New_York:20251209T200000
DTSTAMP:20260422T232112
CREATED:20250521T144725Z
LAST-MODIFIED:20250521T144725Z
UID:3059-1765303200-1765310400@nashvilledental.com
SUMMARY:Pain Management\, Prescribing Requirements\, and Opioid Abuse: Strategies for Dentists and Hygienists
DESCRIPTION:Tuition Cost: AIDA members: $69.00 per person\nGeneral Admission: $99.00 per person \nCE: 2 Lecture CE Credits \nBeginning June 27\, 2023\, practitioners who are renewing or applying for a new controlled substance DEA license must complete 8-hours of substance use disorder (SUD) training. This training may be applied towards that requirement. \nIn addition\, this course will help fulfill the requirement for “pain management” education in states that require it. \nCourse Description: \nThis course is designed to educate dentists and dental hygienists on current principles and techniques for the management of pain and prevention of opioid abuse. \nThe course includes a digital workbook which will be provided to all participants \nCourse Objectives: \n\n\n\nDefinition of pain\nTypes of pain\nPhysiology of pain\nOral facial pain disorders\nDrugs used to manage pain\nPrescribing strategies to reduce addiction potential\nPain management techniques\n\nLocal anesthetics\nTrigger point injections\nOral appliances\nNon-traditional techniques\n\n\nOpioid awareness\, the opioid crisis and addiction\nCharacteristics of individuals with addiction issues\nStages of substance abuse and typical behaviors\nDental management strategies for addicted patients\nPost-operative pain strategies\nRegulatory requirements for prescribers\nTools to control fear and anxiety\nErgonomics and pain prevention for the dental team\nNew products to manage pain and sensitivity\n\n\n\nMeet the Instructors: Karson Carpenter\, DDS \nDr. Karson L Carpenter is a graduate of the University of Michigan School of Dentistry\, and serves as President of Compliance Training Partners. For over 25 years\, he has designed practical continuing education programs to help bring dental professionals into compliance with the regulations that affect them.
URL:https://nashvilledental.com/event/pain-management/
LOCATION:Virtual
CATEGORIES:AIDA
END:VEVENT
BEGIN:VEVENT
DTSTART;VALUE=DATE:20260129
DTEND;VALUE=DATE:20260202
DTSTAMP:20260422T232112
CREATED:20250616T185252Z
LAST-MODIFIED:20250616T185252Z
UID:3092-1769644800-1769990399@nashvilledental.com
SUMMARY:ASPIRE 2026
DESCRIPTION:CLICK HERE TO LEARN MORE!
URL:https://nashvilledental.com/event/aspire-2026/
LOCATION:Hyatt Ziva Los Cabos\, Paseo Malecón Sn\, San José del Cabo\, Zona Hotelera\, 23405\, Mexico
END:VEVENT
BEGIN:VEVENT
DTSTART;TZID=America/New_York:20260327T100000
DTEND;TZID=America/New_York:20260327T110000
DTSTAMP:20260422T232112
CREATED:20260310T143249Z
LAST-MODIFIED:20260310T143843Z
UID:3143-1774605600-1774609200@nashvilledental.com
SUMMARY:Your Path to Practice Ownership: How to Prepare Before You Buy
DESCRIPTION:Buying a dental practice can feel overwhelming—especially for students and early-career dentists who are still several years away from ownership. This workshop is designed to demystify the practice acquisition process by helping future buyers understand how to prepare before they are ready to purchase. \nParticipants will learn how to think like an owner\, evaluate practices through a buyer’s lens\, and ask the right questions when reviewing opportunities. The course covers key financial\, operational\, and transition considerations\, common first-time buyer mistakes\, and practical steps dentists can take now to position themselves for a successful future transition into private practice ownership. \nThis session is ideal for dental students\, residents\, and associates who want to build confidence\, clarity\, and readiness for ownership—without pressure to buy before they are prepared. \nCourse Objectives  \nBy the end of this 45-minute workshop\, participants will: \n\nUnderstand what makes a practice “buyable” from a buyer’s perspective\nKnow the right questions to ask when evaluating a potential practice (even years in advance)\nRecognize common mistakes first-time buyers make— and how to avoid them\nLearn how to prepare financially\, clinically\, and mentally for ownership\nLeave with a clear “buyer readiness roadmap.”\n\n  \nREGISTER TODAY!\n  \nDate: Friday\, March 27\, 2026 \nLocation: VIRTUAL VIA CVENT/ZOOM \nTime: 10AM – 11AM CST \nCost: $10 \n  \nCancellation Policy: Attendees must provide written notice of cancellation 7 days prior to the course date for a full refund. No refunds will be issued for cancellations made 6 days prior to the course date. Registrants that no show the day of the course\, will not receive a refund for tuition paid \nCEs: 1 Lecture CE Credits \nCE CODE: LWNJVCC68SKAGD \nSUBJECT CODE: 550
URL:https://nashvilledental.com/event/your-path-to-practice-ownership/
LOCATION:Virtual
ATTACH;FMTTYPE=image/png:https://nashvilledental.com/wp-content/uploads/2026/03/Screenshot-2026-03-10-at-9.32.32-AM.png
END:VEVENT
BEGIN:VEVENT
DTSTART;TZID=America/New_York:20260417T090000
DTEND;TZID=America/New_York:20260417T150000
DTSTAMP:20260422T232112
CREATED:20260310T143714Z
LAST-MODIFIED:20260310T143804Z
UID:3147-1776416400-1776438000@nashvilledental.com
SUMMARY:OSHA/Infection Control AND Ethics: Human Trafficking\, Child Abuse and Neglect Awareness for Healthcare Professionals
DESCRIPTION:OSHA/Infection Control  \nOSHA requires an annual retraining session for all employees. This course will help fulfill these requirements and will update participants on the latest from OSHA\, including the Globally Harmonized System (GHS) for Hazard Communication and the Bloodborne Disease Pathogens Standard. In addition\, the course will cover the Centers for Disease Control and Prevention Infection Control Guidelines for Dentistry and will review best practices for infection control. Other topics covered include Subparts of the OSH Act that apply to dentistry including: \n\nMeans of egress\nIonizing radiatio\nElectrical safety\nFire safety and first aid\nHazardous materials\nVentilation\nRecordkeeping\n\nInformation will also be provided on how to react to an OSHA inspection of your office and how to assign tasks to key staff members so that they can assist you in achieving compliance. \nCourse Objectives: \n\nUnderstand safety regulations in the dental office\nKnow the OSHA regulations that affect a dental facility\nBe familiar with all infection control regulations and guidelines for dentistry\nKnow the most current CDC guidelines for infection control\nBe prepared for an OSHA inspection in your dental facility\nKnow your rights under OSHA law and how to respond to a citation\n\nEthics: Human Trafficking\, Child Abuse and Neglect Awareness for Healthcare Professionals  \nIt is currently estimated that 27.6 million adults and children are victims of human trafficking. This foundational course will allow healthcare providers to learn about human trafficking and aid them in determining where and why it occurs\, as well as how to identify victims and intervene on their behalf. Following the activity\, learners will be able to: \n\nImprove awareness and knowledge on the issue of human trafficking\nDefine the types of human trafficking\, its venues\, and who it affects\nRecognize the warning signs of trafficking\nIdentify techniques for screening and identification of human trafficking\nIdentify resources for healthcare personnel to report trafficking and provide support to suspected victims\n\nCourse Objectives: see above \n  \nDate: Friday\, April 17\, 2026 \nLocation: Huntsville Botanical Gardens\, 4747 Bob Wallace Ave SW\, Huntsville\, AL 358055 \nTime: 9am – 3pm \nCost: Regular Pricing – $150 \nAIDA Pricing – N/A \n  \nREGISTER TODAY!\n  \nCancellation Policy: Attendees must provide written notice of cancellation a minimum of 24 hours before the course date for a full refund. No refunds will be issued for cancellations made under 24 hours from the course date. Registrants that no show the day of the course\, will not receive a refund for tuition paid. \n  \nCEs: 6 Lecture CE Credits \nAGD SUBJECT CODE: \nOSHA – 2 CE-550 \nInfection Control – 2 CE-550\, \nEthics/Sexual Harassment – 2 CE- 555
URL:https://nashvilledental.com/event/osha-infection-control-and-ethics-human-trafficking-child-abuse-and-neglect-awareness-for-healthcare-professionals/
LOCATION:Huntsville Botanical Gardens\, 4747 Bob Wallace Avenue\, Huntsville\, AL\, 35805\, United States
ATTACH;FMTTYPE=image/png:https://nashvilledental.com/wp-content/uploads/2026/03/Screenshot-2026-03-10-at-9.36.50-AM.png
END:VEVENT
END:VCALENDAR