BEGIN:VCALENDAR
VERSION:2.0
PRODID:-//Nashville Dental Inc. - ECPv6.15.20//NONSGML v1.0//EN
CALSCALE:GREGORIAN
METHOD:PUBLISH
X-WR-CALNAME:Nashville Dental Inc.
X-ORIGINAL-URL:https://nashvilledental.com
X-WR-CALDESC:Events for Nashville Dental Inc.
REFRESH-INTERVAL;VALUE=DURATION:PT1H
X-Robots-Tag:noindex
X-PUBLISHED-TTL:PT1H
BEGIN:VTIMEZONE
TZID:America/New_York
BEGIN:DAYLIGHT
TZOFFSETFROM:-0500
TZOFFSETTO:-0400
TZNAME:EDT
DTSTART:20220313T070000
END:DAYLIGHT
BEGIN:STANDARD
TZOFFSETFROM:-0400
TZOFFSETTO:-0500
TZNAME:EST
DTSTART:20221106T060000
END:STANDARD
BEGIN:DAYLIGHT
TZOFFSETFROM:-0500
TZOFFSETTO:-0400
TZNAME:EDT
DTSTART:20230312T070000
END:DAYLIGHT
BEGIN:STANDARD
TZOFFSETFROM:-0400
TZOFFSETTO:-0500
TZNAME:EST
DTSTART:20231105T060000
END:STANDARD
BEGIN:DAYLIGHT
TZOFFSETFROM:-0500
TZOFFSETTO:-0400
TZNAME:EDT
DTSTART:20240310T070000
END:DAYLIGHT
BEGIN:STANDARD
TZOFFSETFROM:-0400
TZOFFSETTO:-0500
TZNAME:EST
DTSTART:20241103T060000
END:STANDARD
END:VTIMEZONE
BEGIN:VEVENT
DTSTART;TZID=America/New_York:20231027T080000
DTEND;TZID=America/New_York:20231027T150000
DTSTAMP:20260422T233352
CREATED:20230418T194350Z
LAST-MODIFIED:20230418T194350Z
UID:2432-1698393600-1698418800@nashvilledental.com
SUMMARY:Teamwork Makes the DREAMwork!
DESCRIPTION:● October 27 ● Huntington\, WV\nTeamwork Makes the DREAMwork! \nAmber Auger\, RDH\, MPH & Dr. Sam Shamardi\, DMD \n \nAs a hygienist in today’s dental environment do you ever ask yourself if there is a better way to diagnose and communicate with your patients about this disease? How about with the doctor or periodontist? This interactive\, live course will examine the hygienist’s and dentist’s role in the identification and treatment of periodontal disease\, focusing on the latest clinical innovations practices that can be implemented as a collaborative team for greater case acceptance. Dream Team\, Dr. Sam Shamardi and Amber Auger\, RDH\, MPH will walk you through upping your game in the Periodontal Disease arena. \nCourse Objectives:  \n\nIdentify clinical and radiographic criteria and determine best practices for treatment\nDiscuss the critical role hygiene plays pre- and post-therapy\nDiscover the latest clinical innovations to enhance treatment outcomes and improve time management\nReview best practices for maximizing insurance coverage and case acceptance\n\nLocation: Double Tree Hilton Huntington\, 1001 3rd Avenue\, Huntington\, West Virginia\, 25701 \nTime:  \n\nBreakfast & Registration – 8:00am\nEvent – 9:00am\nLunch – 12:00-1:00pm\nDismissal – 3:00pm\n\nCost: $299 per person\, AIDA Members: $149 (AIDA Members receive 50% discounted tutition per course. This discount is automatically applied at checkout) \nCEs: 5 Lecture CE Credits \nCE CODE: VKNRWFG3VVN \nAGD SUBJECT CODE: 490 \nCancellation Policy: Attendees must provide written notice of cancellation a minimum of 24 hours before the course date for a full refund. No refunds will be issued for cancellations made under 24 hours from the course date. Registrants that no show the day of the course\, will not receive a refund for tuition paid. \nClick Here to Register Today! \nThis activity has been planned and implemented in accordance with the standards of the Academy of General Dentistry Program Approval for Continuing Education (AGD PACE) through the joint program provider of Nashville Dental\, Inc. and American Independent Dental Alliance. The Nashville Dental\, Inc. is approved for awarding FAGD/MAGD Credit. \n 
URL:https://nashvilledental.com/event/teamwork-dreamwork/
LOCATION:TN
END:VEVENT
BEGIN:VEVENT
DTSTART;TZID=America/New_York:20230929T080000
DTEND;TZID=America/New_York:20230929T150000
DTSTAMP:20260422T233352
CREATED:20230418T194148Z
LAST-MODIFIED:20230418T194148Z
UID:2428-1695974400-1695999600@nashvilledental.com
SUMMARY:Functional Dentistry\, A New Frontier For Independent Practices 
DESCRIPTION:● September 29 ● Huntsville\, AL\nFunctional Dentistry\, A New Frontier For Independent Practices \nA Guide to Implementing Airway\, Occlusion and TMJ Services for Improved Patient Care and Profitability\nJeffrey W. Horowitz D.M.D.\, F.A.G.D.\, D-ABDSM\, D-ASBA \n \nWhat is it that successful independent or small group dentists do that differentiates them from the DSO’s and most of their competitors? The answer lies in offering services that others simply cannot. Functional Dentistry brings the disciplines of Airway\, Occlusal\, and TMJ services together in a way that can improve outcomes for your patients while adding new procedures for practice profitability. This course will introduce the concept of Functional Dentistry and how a basic understanding of the underlying disciplines can change a practice forever. A roadmap to understanding and implementing these services will be developed so that dentists can return to their practices with a plan to provide unique and sought-after care. \nCourse Objectives:  \n\nUnderstanding Function as a primary mode of restorative failure.\nProper history\, exam and records to identify functional concerns.\nThe basics of successful diagnosis/treatment for sleep disordered breathing\nDifferentiating occlusal disease from temporo-mandibular joint disorders.\nApplying Functional Dentistry to treatment planning based on etiology of the condition.\n\nLocation: Embassy Suites by Hilton Huntsville Hotel & Spa\, 800 Monroe St SW\, Huntsville\, AL 35801 \nTime:  \n\nBreakfast & Registration – 8:00am\nEvent – 9:00am\nLunch – 12:00-1:00pm\nDismissal – 3:00pm\n\nCost: $299 per person\, AIDA Members: $149 (AIDA Members receive 50% discounted tutition per course. This discount is automatically applied at checkout) \nCEs: 5 Lecture CE Credits \nCE CODE: KGNVRXDFG8X \nAGD SUBJECT CODE: 180 \nCancellation Policy: Attendees must provide written notice of cancellation a minimum of 24 hours before the course date for a full refund. No refunds will be issued for cancellations made under 24 hours from the course date. Registrants that no show the day of the course\, will not receive a refund for tuition paid. \nClick Here to Register Today! \nThis activity has been planned and implemented in accordance with the standards of the Academy of General Dentistry Program Approval for Continuing Education (AGD PACE) through the joint program provider of Nashville Dental\, Inc. and American Independent Dental Alliance. The Nashville Dental\, Inc. is approved for awarding FAGD/MAGD Credit.
URL:https://nashvilledental.com/event/functional-dentistry/
LOCATION:TN
END:VEVENT
BEGIN:VEVENT
DTSTART;TZID=America/New_York:20230922T080000
DTEND;TZID=America/New_York:20230922T150000
DTSTAMP:20260422T233352
CREATED:20230418T194057Z
LAST-MODIFIED:20230418T194057Z
UID:2426-1695369600-1695394800@nashvilledental.com
SUMMARY:The Dental Hygiene Detective: What the Patient’s Mouth is Telling Us
DESCRIPTION:● September 22 ● Chattanooga\, TN\nThe Dental Hygiene Detective: What the Patient’s Mouth is Telling Us \nAmber Auger\, RDH\, MPH \n \nThere are many clues that provide evidence of diseases\, such as occlusal wear\, recession\, bleeding\, fissured tongues\, erythemic tissues\, incipient lesions\, and many more. Determining our patient’s high-risk factors for oral disease and systemic health is multi-factorial\, and our role as dental professionals allows us to evaluate the first signs of disease. This program will help you and your team review the patient’s risk factors. At the same time\, empowering the clinician to compare clinical technologies that align with the patient’s lifestyle to reduce and decrease disease. \nCourse Objectives:  \n\nReview the role of pH in the caries risks assessment and learn to identify stages of demineralization and remineralization.\nIdentify the latest techniques in salivary testing and how to treat the patient based on the results.\nPrioritize the patient’s high-risk factors to decrease their risks of oral disease and systemic health comprehensively.\nReevaluate insulin resistance and why it’s essential for dental professionals.\nDiscover how to expedite risk assessments to enhance patient education and prevention.\nEvaluate the latest clinical and homecare technologies to decrease patients’ oral and systemic disease risks.\n\nLocation: Hilton Doubletree Downtown\, 407 Chestnut Street\, Chattanooga\, Tennessee\, 37402 \nTime:  \n\nBreakfast & Registration – 8:00am\nEvent – 9:00am\nLunch – 12:00-1:00pm\nDismissal – 3:00pm\n\nCost: $299 per person\, AIDA Members: $149 (AIDA Members receive 50% discounted tutition per course. This discount is automatically applied at checkout) \nCEs: 5 Lecture CE Credits \nCE CODE: JXNRH8YFN55 \nAGD SUBJECT CODE: 490 \nCancellation Policy: Attendees must provide written notice of cancellation a minimum of 24 hours before the course date for a full refund. No refunds will be issued for cancellations made under 24 hours from the course date. Registrants that no show the day of the course\, will not receive a refund for tuition paid. \nClick Here to Register Today! \nThis activity has been planned and implemented in accordance with the standards of the Academy of General Dentistry Program Approval for Continuing Education (AGD PACE) through the joint program provider of Nashville Dental\, Inc. and American Independent Dental Alliance. The Nashville Dental\, Inc. is approved for awarding FAGD/MAGD Credit.
URL:https://nashvilledental.com/event/dentalhygienedetective/
LOCATION:TN
END:VEVENT
BEGIN:VEVENT
DTSTART;TZID=America/New_York:20230713T180000
DTEND;TZID=America/New_York:20230713T200000
DTSTAMP:20260422T233352
CREATED:20230621T155016Z
LAST-MODIFIED:20230621T155016Z
UID:2448-1689271200-1689278400@nashvilledental.com
SUMMARY:Digital Dentistry + 3D Scanning\, Printing and Photo Bio Modulation
DESCRIPTION:Looking to add technology to your office? What is your digital workflow? What could it be? Come enjoy some discussion\, food\, and drink at Nashville Dental’s Louisville Branch. \nEach speaker will touch on the areas of the above questions and guide you in making the decisions that are best for you and your plans for the future. \n  \nLOCATION \nNashville Dental \n11003 Bluegrass Pkwy\, Ste 530 \nLouisville\, KY 40299 \n  \nPRICE \nFree \n  \nSPEAKERS \n\nAngela Podesta of SprintRay\nSam Gaunt of Dexis\nPeete Cousins of Summus\nWhit Wylie of NDI\n\n  \nREGISTER \nPlease contact either to confirm: \nWhite Wylie \n910.367.0890 | wwylie@nashvilledental.com \nRichard Brent \n(502) 396-0813 | rbrent@nashvilledental.com \n 
URL:https://nashvilledental.com/event/digital-dentistry-3d-scanning-printing-and-photo-bio-modulation/
LOCATION:Nashville Dental\, 11003 Bluegrass Pkwy\, Ste 530\, Louisville\, 40299\, United States
CATEGORIES:Technology
ATTACH;FMTTYPE=image/png:https://nashvilledental.com/wp-content/uploads/2023/06/Screenshot-2023-06-21-at-10.49.30-AM.png
END:VEVENT
BEGIN:VEVENT
DTSTART;TZID=America/New_York:20230609T080000
DTEND;TZID=America/New_York:20230609T150000
DTSTAMP:20260422T233352
CREATED:20230418T193726Z
LAST-MODIFIED:20230418T193818Z
UID:2422-1686297600-1686322800@nashvilledental.com
SUMMARY:Medical Billing in a Dental Practice: Can it Really Be This Difficult?
DESCRIPTION:● JUNE 9 ● Knoxville\, TN\nMedical Billing in a Dental Practice: Can it Really Be This Difficult?\nPetar Tofovic\, DMD \n \nThe goal of the course is to provide the participants with beginners knowledge and concepts to ethically and practically bill medical insurance in the dental practice. This includes basic understanding of what medical billing is\, how it works\, and what types of services performed in a dental office are appropriate to bill to medical insurance. At the conclusion of this course\, attendees will have all the information needed to start implementing Medical Billing at their practice while also providing solutions to create revenue for their practice. To be successful with billing medical insurance right from the start\, we highly recommend having the insurance coordinator and/or practice manager attend the course with the dentist/practice owner. \nCourse Objectives:  \n\nGain a fundamental understanding of medical billing in a dental setting\nUnderstand the principals of CPT and ICD-10 coding\nFill out and submit Health Insurance Form 1500\nLearn how to create and implement SOAP notes\nImplement a basic medical billing workflow in your office\nOffer solutions to accomplish medical billing successfully\n\nLocation: Embassy Suites by Hilton Knoxville Downtown\, 507 South Gay St\, Knoxville\, TN 37902 \nTime: \n\nBreakfast & Registration – 8:00am\nEvent – 9:00am\nLunch – 12:00-1:00pm\nDismissal – 3:00pm\n\nCost: $299 per person\, AIDA Members: $149 (AIDA Members receive 50% discounted tutition per course. This discount is automatically applied at checkout) \nCEs: 5 Lecture CE Credits \nCE CODE: LFN45F64TPY \nAGD SUBJECT CODE: 550 \nCancellation Policy: Attendees must provide written notice of cancellation a minimum of 24 hours before the course date for a full refund. No refunds will be issued for cancellations made under 24 hours from the course date. Registrants that no show the day of the course\, will not receive a refund for tuition paid. \nClick Here to Register Today! \nThis activity has been planned and implemented in accordance with the standards of the Academy of General Dentistry Program Approval for Continuing Education (AGD PACE) through the joint program provider of Nashville Dental\, Inc. and American Independent Dental Alliance. The Nashville Dental\, Inc. is approved for awarding FAGD/MAGD Credit.
URL:https://nashvilledental.com/event/medical-billing/
LOCATION:TN
END:VEVENT
BEGIN:VEVENT
DTSTART;TZID=America/New_York:20230602T080000
DTEND;TZID=America/New_York:20230602T150000
DTSTAMP:20260422T233352
CREATED:20230418T193602Z
LAST-MODIFIED:20230418T193602Z
UID:2420-1685692800-1685718000@nashvilledental.com
SUMMARY:Today’s Technology CAN Be Better Than Nature
DESCRIPTION:● JUNE 2 ● Nashville\, TN\nToday’s Technology CAN Be Better Than Nature\nDr. Lon McRae\, DDS. \n \nWith the advancements in dental technology today dental clinicians can create results better than ever before. But choosing which systems are best and how to implement new protocols into the team isn’t always easy. Often integrating anything new in the office brings additional stress and reduces production and interrupts workflow. This course will allow the clinical team to not only understand what technologies are available\, but how to choose which ones will achieve the best result and get the team involved to implement and communicate better with the patient. Digital workflow including CBCT\, CAD/CAM\, intra-oral scanning and 3D printing will be reviewed to simplify this ever-changing digital environment in the dental office. \nCourse Objectives:  \n\nReview current technology options and rational for purchasing and applying to increase your production\nRelieve stress with day-to-day procedures by implementing simple solutions\nHow technology can level the playing field for Smile Makeovers and Smile Design\nWhat is new with dental implants in the aesthetic zone\nProvide step-by-step procedures for best clinical outcomes\nInvolving the entire dental team to improve ROI and patient acceptance\nChoosing the technology that best fits your budget and your practice\n\nLocation: Sonesta\, 600 Marriott Drive\, Nashville\, TN 37214 \nTime: \n\nBreakfast & Registration – 8:00am\nEvent – 9:00am\nLunch – 12:00-1:00pm\nDismissal – 3:00pm\n\nCost: $299 per person\, AIDA Members: $149 (AIDA Members receive 50% discounted tutition per course. This discount is automatically applied at checkout) \nCEs: 5 Lecture CE Credits \nCE CODE: HWN4WD2T8DN \nAGD SUBJECT CODE: 250 \nCancellation Policy: Attendees must provide written notice of cancellation a minimum of 24 hours before the course date for a full refund. No refunds will be issued for cancellations made under 24 hours from the course date. Registrants that no show the day of the course\, will not receive a refund for tuition paid. \nClick Here to Register Today! \nThis activity has been planned and implemented in accordance with the standards of the Academy of General Dentistry Program Approval for Continuing Education (AGD PACE) through the joint program provider of Nashville Dental\, Inc. and American Independent Dental Alliance. The Nashville Dental\, Inc. is approved for awarding FAGD/MAGD Credit.
URL:https://nashvilledental.com/event/todays-technology-can-be-better-than-nature/
LOCATION:TN
END:VEVENT
BEGIN:VEVENT
DTSTART;TZID=America/New_York:20230401T080000
DTEND;TZID=America/New_York:20230430T170000
DTSTAMP:20260422T233352
CREATED:20230321T005829Z
LAST-MODIFIED:20230321T011106Z
UID:2395-1680336000-1682874000@nashvilledental.com
SUMMARY:Emerald S Scanning from A to Z  - Online
DESCRIPTION:Emerald S Scanning from A to Z (Online Course)\nAccelerate the speed & accuracy of your clinical scanning\nFree  |  4 Hours CE  |  By. Dr. Wally Renne\nClinical scanning is the basis for all digital dentistry. Join Dr. Wally Renne in this complimentary course examining the most accurate and efficient ways to complete your scans and set the rest of your digital workflows up for success. \n\nUnderstand different scan strategies for complete arch\, implants and removable dentures\nLearn best practices for margin isolation and clarity\nLearn the latest evidence in the literature around digital impressions\nBecome familiar with Romexis software and navigation of scan menus\nLearn proper bite scanning and multiple bite techniques\n\n  \nThis is a great online course for Dentists and Dental Assistants. To learn more and to get started with this course visit MOD Institute. \n  \n Get Started Today!
URL:https://nashvilledental.com/event/emerald-s-scanning-from-a-to-z-online/
LOCATION:TN
ATTACH;FMTTYPE=image/jpeg:https://nashvilledental.com/wp-content/uploads/2022/03/shutterstock_1679504617-scaled-e1678830387215.jpg
END:VEVENT
BEGIN:VEVENT
DTSTART;TZID=America/New_York:20230324T080000
DTEND;TZID=America/New_York:20230324T140000
DTSTAMP:20260422T233352
CREATED:20230321T010905Z
LAST-MODIFIED:20230321T011022Z
UID:2399-1679644800-1679666400@nashvilledental.com
SUMMARY:Spring Has Sprung CE Event
DESCRIPTION:Join us for a multiple topic and speaker event covering Therapeutics in Dentistry.\nEvent Information\nTIME: 8AM CST (registration)\, 9AM CST (event begins) \nPLACE: Soirees Events Center\, 2069 Irvin Cobb Dr.\, Paducah\, KY 42003 \nCE: 5 CE Hours \nFOOD: Light Breakfast & Catered Lunch \nPRICE: $50 \nCONTACT: Contact Terri Thorpe at (270) 703-0823 with any questions \n** Purchase Area Dental Society members will receive a $100 service voucher for attending.\n \nCourse Objectives\n\nSession 1: Kent Prince\, A Pathway for the Healthy Professional\nSession 2: James Eggert\, Therapeutics in Dentistry\nSession 3: Tera Wilson\, Top 10 Strategies to Effectively Manage Patient Accounts Receivable\nSession 4: Andy Austin\, Dental Business\, The Supply Chain and Using your Network\nSession 5: Tera Wilson\, 4 Retention Systems For a Patient Centered Practice\n\n  \nRegistration for this event is now closed.
URL:https://nashvilledental.com/event/spring-has-sprung-ce-event/
LOCATION:Soirees Events Center\, 2069 Irvin Cobb Dr.\, Paducah\, KY\, 42003\, United States
ATTACH;FMTTYPE=image/jpeg:https://nashvilledental.com/wp-content/uploads/2023/02/Chamonix-wildflowers-GettyImages-460705853.jpg
END:VEVENT
BEGIN:VEVENT
DTSTART;TZID=America/New_York:20230324T080000
DTEND;TZID=America/New_York:20230324T120000
DTSTAMP:20260422T233352
CREATED:20230321T010307Z
LAST-MODIFIED:20230321T010419Z
UID:2397-1679644800-1679659200@nashvilledental.com
SUMMARY:West TN Spring Meeting
DESCRIPTION:Taking your practice to the next level with a deep dive into orofacial myology and learn how to shift focus to a health-centered hygienist.\n\nMarch 24\, 2023\n8AM – 12PM\nCWTAR Building\n935-B Old Humboldt Rd.\nJackson\, TN 38305\nPrice: $50\nCE Credits: 3\n** Breakfast & Lunch Are Provided\n\nSPEAKERS\n\nAmanda Whirley\nTosha Kozloski\n\nOBJECTIVES\n\nRecognize the early warning signs of periodontal disease (Before BOP)\nUnderstand the key players in the mouth-body connection and their role in causing periodontal and systemic diseases.\nAcquire verbal skills used in a health-centeredpractice that get the “yes” to necessary periodontal treatment the first time.\nDetermine and treat underlying causes of problems.\nImprove your patients overall health by establishing proper oral and facial function and proper breakthing skills.\n\nClick HERE to register today!
URL:https://nashvilledental.com/event/west-tn-spring-meeting/
LOCATION:TN
ATTACH;FMTTYPE=image/png:https://nashvilledental.com/wp-content/uploads/2023/02/Screen-Shot-2023-02-08-at-4.14.57-PM.png
END:VEVENT
END:VCALENDAR