BEGIN:VCALENDAR
VERSION:2.0
PRODID:-//Nashville Dental Inc. - ECPv6.15.20//NONSGML v1.0//EN
CALSCALE:GREGORIAN
METHOD:PUBLISH
X-ORIGINAL-URL:https://nashvilledental.com
X-WR-CALDESC:Events for Nashville Dental Inc.
REFRESH-INTERVAL;VALUE=DURATION:PT1H
X-Robots-Tag:noindex
X-PUBLISHED-TTL:PT1H
BEGIN:VTIMEZONE
TZID:America/New_York
BEGIN:DAYLIGHT
TZOFFSETFROM:-0500
TZOFFSETTO:-0400
TZNAME:EDT
DTSTART:20240310T070000
END:DAYLIGHT
BEGIN:STANDARD
TZOFFSETFROM:-0400
TZOFFSETTO:-0500
TZNAME:EST
DTSTART:20241103T060000
END:STANDARD
BEGIN:DAYLIGHT
TZOFFSETFROM:-0500
TZOFFSETTO:-0400
TZNAME:EDT
DTSTART:20250309T070000
END:DAYLIGHT
BEGIN:STANDARD
TZOFFSETFROM:-0400
TZOFFSETTO:-0500
TZNAME:EST
DTSTART:20251102T060000
END:STANDARD
BEGIN:DAYLIGHT
TZOFFSETFROM:-0500
TZOFFSETTO:-0400
TZNAME:EDT
DTSTART:20260308T070000
END:DAYLIGHT
BEGIN:STANDARD
TZOFFSETFROM:-0400
TZOFFSETTO:-0500
TZNAME:EST
DTSTART:20261101T060000
END:STANDARD
END:VTIMEZONE
BEGIN:VEVENT
DTSTART;TZID=America/New_York:20250905T090000
DTEND;TZID=America/New_York:20250905T110000
DTSTAMP:20260422T231023
CREATED:20250808T144410Z
LAST-MODIFIED:20250808T145620Z
UID:3108-1757062800-1757070000@nashvilledental.com
SUMMARY:Full Digital Protocol: Understand the Complete Digital Workflow
DESCRIPTION:REGISTER HERE\n  \nThis course introduces a streamlined\, fully digital protocol for restoring full arch implant cases using photogrammetry technology and 3D printing. Dr. Hrebeshchenko will demonstrate how full arch restorations—often requiring multiple traditional appointments—can now be completed in under two hours using an efficient digital workflow. \nAttendees will learn how to restore implants both in immediate load scenarios (following same-day surgery with a provisional hybrid) and in delayed\, Stage II cases when implants have already been placed and the clinician’s role is restorative only. \nThis course is ideal for beginner to intermediate clinicians\, as well as any restorative dentist looking to expand into the world of full arch implant restorations. \nDr. Hrebeshchenko will also provide a concise overview of key surgical components\, including implant placement principles\, MUA selection\, photogrammetry\, and intraoral scanning techniques to ensure restorative success. \nFull Digital Protocol: Understand The Complete Digital Workflow \n  \nCourse Objectives: \nBy the end of this course\, attendees will be able to: \n• Understand the complete digital workflow for full arch restorations using photogrammetry and 3D printing. \n• Differentiate between immediate loading vs. Stage II restoration protocols. \n• Confidently use photogrammetry scan bodies and perform accurate intraoral scans. \n• Identify proper selection and placement of multi-unit abutments (MUAs). \n• Compare traditional vs. digital methods and appreciate how digital saves chairtime and appointments. \n• Implement clinical strategies for efficient full arch temporization using in-office or lab-based 3D printing. \n• Understand the role of printed hybrids during healing and try-in phases \n• Understand the lab’s role in designing and milling of the final zirconia prosthesis after healing is complete \n• Gain practical tips for case planning\, communication with labs\, and patient experience optimization. \n  \nLocation: Huntsville Botanical Gardens\, 4747 Bob Wallace Ave SW\, Huntsville\, AL 358055 \nTime: 9am – 11am (registration at 8:30am) \nCE Credits and lunch will be distributed to the attendees after the completion of the course. \nCost: FREE \nCEs: 2 Lecture CE Credits \n  \nREGISTER HERE\n  \nAGD SUBJECT CODE: 780 \nCancellation Policy: This event is FREE and there is no tuition cost. However we are requesting attendees provide written notice of  cancellation a minimum of 48 hours before the course date due to fees incurred by the course organizer. \n 
URL:https://nashvilledental.com/event/full-digital-protocol/
LOCATION:Huntsville Botanical Gardens\, 4747 Bob Wallace Avenue\, Huntsville\, AL\, 35805\, United States
END:VEVENT
BEGIN:VEVENT
DTSTART;TZID=America/New_York:20250909T180000
DTEND;TZID=America/New_York:20250909T190000
DTSTAMP:20260422T231023
CREATED:20250521T143610Z
LAST-MODIFIED:20250521T144159Z
UID:3051-1757440800-1757444400@nashvilledental.com
SUMMARY:Understanding Insurance Participation to Maximize Revenue
DESCRIPTION:Tuition Cost: AIDA members: $9.99 per person\nGeneral Admission: $19.99 per person \nCE: 1.0 Lecture CE Credits\nCE Code: 550\nPrerequisites: None \nCourse Description: \nThe presentation will focus on understanding dental insurance and PPO network options\, and how they directly impact the revenue and profitability of a dental practice.  We’ll discuss the major challenges faced by private dental practices\, and different types of insurance and PPO contracts.  We’ll explore network sharing arrangements and why understanding what they are and how they work can have a major impact on your bottom line. The discussion will include different strategies and remedies to reduce the impact of the various ways insurance companies have rigged the system in their favor.  Finally\, we’ll review actual case studies and show the results from the various strategies.  The objective is to familiarize the dentist with dental insurance and build a foundation of understanding on the financial impact insurance and PPO contracts have on a dental practice. \nCourse Objectives: \n\nGain understanding of network sharing arrangements\nIdentify the various contracting options for insurance networks/PPOs\nFully understand the impact of each option on the practice\nImplement goals and strategies that maximize revenue from insurance\n\nMeet the Instructors: Dr Jim Bolt & Michael Ingram \nJim Bolt DMD\nJim Bolt\, DMD\, has been Chief Member Advocate for Dental Advocacy Group since 2019.  Dr. Bolt was previously in a solo private practice for 31 years in Greenville\, SC.  After retiring from practice\, Dr. Bolt served as a part time clinical instructor at the Dental College of Georgia\, working with the senior dental students\, for 6 years.  His duties as Chief Member Advocate include educating dentists\, dental residents and students on the options that dentists have when considering PPO participation.  As a staunch advocate for the private practicing dentist\, Dr. Bolt strives to help dentists understand that they can enjoy the advantages of being a network provider without having to “give away” dentistry and sacrifice quality due to poor paying fee schedules. Dr. Bolt is a member of the Leadership Team and brings a unique perspective from his lengthy career in dentistry. \nMichael Ingram\nMichael joined Dental Advocacy Group seven years ago with the goal of growing the company through their unique revenue enhancing solutions\, and by developing strategic partnerships with like-minded dental organizations and industry experts.  Michael’s role with Dental Advocacy Group draws on three decades of experience in business and relationship development\, insurance and fee schedule negotiations\, and sales.  Michael is a member of the Leadership Team\, directing the sales and marketing efforts of the company. Over the last seven years\, DAG has grown to over 1200 Dentist clients in 40 states.
URL:https://nashvilledental.com/event/understanding-insurance/
LOCATION:AL
CATEGORIES:AIDA
END:VEVENT
BEGIN:VEVENT
DTSTART;TZID=America/New_York:20250912T080000
DTEND;TZID=America/New_York:20250912T150000
DTSTAMP:20260422T231023
CREATED:20250617T180551Z
LAST-MODIFIED:20250617T180840Z
UID:3097-1757664000-1757689200@nashvilledental.com
SUMMARY:From Probing to Prevention: A Wellness Wake-up Call
DESCRIPTION:Register Now\n \n\nDate: Friday\, September 12\, 2025 \nLocation: \nChattanooga State Community College\, 4501 Amnicola Hwy\, HSC 1083\, Chattanooga\, TN 37406 \nTime: 8am – 3pm \nCost:\n• Regular Pricing: $150.00 \n• AIDA Members: $125.00 \nCE’s: 5 \n\nAM Course Description  \nProgressive Periodontal Therapy: A Comprehensive Approach to Periodontal Management (3 CE) \nIdentifying disease at its earliest stages is essential to prevent the progression of oral and systemic diseases. Proper classification of a patient’s risk factors and potential rate of progression enables the dental hygienist’s role to be fully maximized. This creates a practice that is in full alignment with the standard of care\, resulting in raving patients and a thriving practice. \nAM Course Objectives  \n\nAccess the 2017 AAP Periodontal Classifications and review case studies\nDiscuss treatment recommendations based on the patient’s stage and grade\nEvaluate communication techniques to increase patient acceptance\nDiscover common billing errors that prevent insurance coverage\nReview new and innovative ways to improve the chairside experience for both the patient and the clinician including voice recognition technologies\, instruments\, and new home care items that will optimize patient compliance\nIdentify best practices of power instrumentation and the latest hand scaling techniques home\n\n\nPM Course Description  \nGuts\, Gums & Glucose: The Missing Link for Optimal Health (2 CE) \nIt is estimated that over 80 percent of Americans are experiencing insulin resistance. One can have insulin resistance for up to 20 years before being pre-diabetic. Insulin resistance impacts every organ and body and is crucial to acute and chronic disease prevention. This course is designed to equip the dental professional to take a more comprehensive look at the root cause of oral and systemic inflammation. The clinician will obtain practical information for chairside implementation. \nPM Course Objectives  \n\nDefine the bi-directional relationship between insulin resistance\, diabetes\, and periodontal disease\nReview strategies to elevate systemic inflammation manifesting orally\nIdentify how periodontal pathogens affect gut health\nDiscover oral products to promote symbiosis\n\n\nSPEAKER: Amber Auger\, MPH\, RDH \nAmber Auger\, MPH\, RDH\, is a practicing dental hygienist with a mission to elevate the standard of care to determine the root cause of oral diseases. With over 17 years of experience\, Amber specializes in creating practical systems to implement the latest oral science.  \nAmber is the 2019 Sunstar Award of Distinction recipient\, a contributor to RDH Magazine\, a featured author for DentistryIQ\, editor of the RDH Graduate newsletter\, and the host of #AskAmberRDH.  \nAmber is actively mentoring and educating fellow dental hygienists in their careers and in personal and career growth through Thrive in the Op® on-demand course curriculum and weekly live coaching sessions. Amber is also the owner of the Functional RDH® certification that provides hands-on and classroom lectures to identify the root cause of dental dysbiosis and ways in which to restore whole-body health based on the latest oral science.  \n\nCancellation Policy: Cancellation by August 29\, 2025 for full refund\, no refund will be issued for cancellations made after August 29th\, due to fees incurred by the course organizer. Registrants that no show the day of the course\, will not receive a refund for tuition paid. \n\nCEs: 5 Lecture CE Credits \nCE CODE: 63400001Q \nAGD SUBJECT CODE: 550  \n\nRegister Now
URL:https://nashvilledental.com/event/wellness-wake-up-call/
LOCATION:Chattanooga State Community College\, 4501 Amnicola Hwy\, HSC 1083\, Chattanooga\, TN\, 37406\, United States
ATTACH;FMTTYPE=image/png:https://nashvilledental.com/wp-content/uploads/2025/06/Screenshot-2025-06-17-at-1.01.35 PM.png
END:VEVENT
END:VCALENDAR