BEGIN:VCALENDAR
VERSION:2.0
PRODID:-//Nashville Dental Inc. - ECPv6.15.20//NONSGML v1.0//EN
CALSCALE:GREGORIAN
METHOD:PUBLISH
X-ORIGINAL-URL:https://nashvilledental.com
X-WR-CALDESC:Events for Nashville Dental Inc.
REFRESH-INTERVAL;VALUE=DURATION:PT1H
X-Robots-Tag:noindex
X-PUBLISHED-TTL:PT1H
BEGIN:VTIMEZONE
TZID:America/New_York
BEGIN:DAYLIGHT
TZOFFSETFROM:-0500
TZOFFSETTO:-0400
TZNAME:EDT
DTSTART:20250309T070000
END:DAYLIGHT
BEGIN:STANDARD
TZOFFSETFROM:-0400
TZOFFSETTO:-0500
TZNAME:EST
DTSTART:20251102T060000
END:STANDARD
BEGIN:DAYLIGHT
TZOFFSETFROM:-0500
TZOFFSETTO:-0400
TZNAME:EDT
DTSTART:20260308T070000
END:DAYLIGHT
BEGIN:STANDARD
TZOFFSETFROM:-0400
TZOFFSETTO:-0500
TZNAME:EST
DTSTART:20261101T060000
END:STANDARD
BEGIN:DAYLIGHT
TZOFFSETFROM:-0500
TZOFFSETTO:-0400
TZNAME:EDT
DTSTART:20270314T070000
END:DAYLIGHT
BEGIN:STANDARD
TZOFFSETFROM:-0400
TZOFFSETTO:-0500
TZNAME:EST
DTSTART:20271107T060000
END:STANDARD
END:VTIMEZONE
BEGIN:VEVENT
DTSTART;TZID=America/New_York:20260327T100000
DTEND;TZID=America/New_York:20260327T110000
DTSTAMP:20260422T132442
CREATED:20260310T143249Z
LAST-MODIFIED:20260310T143843Z
UID:3143-1774605600-1774609200@nashvilledental.com
SUMMARY:Your Path to Practice Ownership: How to Prepare Before You Buy
DESCRIPTION:Buying a dental practice can feel overwhelming—especially for students and early-career dentists who are still several years away from ownership. This workshop is designed to demystify the practice acquisition process by helping future buyers understand how to prepare before they are ready to purchase. \nParticipants will learn how to think like an owner\, evaluate practices through a buyer’s lens\, and ask the right questions when reviewing opportunities. The course covers key financial\, operational\, and transition considerations\, common first-time buyer mistakes\, and practical steps dentists can take now to position themselves for a successful future transition into private practice ownership. \nThis session is ideal for dental students\, residents\, and associates who want to build confidence\, clarity\, and readiness for ownership—without pressure to buy before they are prepared. \nCourse Objectives  \nBy the end of this 45-minute workshop\, participants will: \n\nUnderstand what makes a practice “buyable” from a buyer’s perspective\nKnow the right questions to ask when evaluating a potential practice (even years in advance)\nRecognize common mistakes first-time buyers make— and how to avoid them\nLearn how to prepare financially\, clinically\, and mentally for ownership\nLeave with a clear “buyer readiness roadmap.”\n\n  \nREGISTER TODAY!\n  \nDate: Friday\, March 27\, 2026 \nLocation: VIRTUAL VIA CVENT/ZOOM \nTime: 10AM – 11AM CST \nCost: $10 \n  \nCancellation Policy: Attendees must provide written notice of cancellation 7 days prior to the course date for a full refund. No refunds will be issued for cancellations made 6 days prior to the course date. Registrants that no show the day of the course\, will not receive a refund for tuition paid \nCEs: 1 Lecture CE Credits \nCE CODE: LWNJVCC68SKAGD \nSUBJECT CODE: 550
URL:https://nashvilledental.com/event/your-path-to-practice-ownership/
LOCATION:Virtual
ATTACH;FMTTYPE=image/png:https://nashvilledental.com/wp-content/uploads/2026/03/Screenshot-2026-03-10-at-9.32.32-AM.png
END:VEVENT
END:VCALENDAR